BEGIN:VCALENDAR
VERSION:2.0
PRODID:-//Anders Essen - ECPv5.2.1.1//NONSGML v1.0//EN
CALSCALE:GREGORIAN
METHOD:PUBLISH
X-WR-CALNAME:Anders Essen
X-ORIGINAL-URL:https://andersessen.at
X-WR-CALDESC:Veranstaltungen für Anders Essen
BEGIN:VTIMEZONE
TZID:Europe/Vienna
BEGIN:DAYLIGHT
TZOFFSETFROM:+0100
TZOFFSETTO:+0200
TZNAME:CEST
DTSTART:20220327T010000
END:DAYLIGHT
BEGIN:STANDARD
TZOFFSETFROM:+0200
TZOFFSETTO:+0100
TZNAME:CET
DTSTART:20221030T010000
END:STANDARD
END:VTIMEZONE
BEGIN:VEVENT
DTSTART;TZID=Europe/Vienna:20221022T160000
DTEND;TZID=Europe/Vienna:20221022T200000
DTSTAMP:20260420T100907
CREATED:20220922T124917Z
LAST-MODIFIED:20220927T085013Z
UID:1044-1666454400-1666468800@andersessen.at
SUMMARY:Blue Zone Kochkurs - Rezepte für Langlebigkeit - Griechenland "Ikaria"
DESCRIPTION:Griechenlands mediterrane Küche – „Kalí órexi“ \nBlue Zone Ikaria \nIkaria ist eine von fünf weltweiten „Blauen Zonen“\, in denen mindestens ein Drittel der Einwohner bei guter Gesundheit bis in die 90er Jahre und darüber hinaus lebt. Studien haben das lange Leben der Ikarianer auf mehrere Faktoren zurückgeführt\, darunter Ernährung\, Lebensstil und Genetik. \nDa ich seit mehr als 10 Jahren begeisterte Ikaria Reisende bin\, möchte ich in diesem Kochworkshop gerne meine gesammelten Erfahrungen dieser „Blue Zone“ weitergeben. \nWir kochen typische traditionelle Gerichte der Insel und werfen einen Blick auf den Lebensstil der Inselbewohner. \nEins kann ich schon jetzt verraten: Wir werden uns Zeit für die Zubereitung und zum Genießen der Gerichte nehmen. Denn sich generell Zeit nehmen\, Mahlzeiten zelebrieren und nebenbei soziale Kontakte pflegen\, ist eines der Faktoren für gesunde Langlebigkeit. \nAllgemeine INFO: \nBitte informiere uns\, wenn bei dir eine Lebensmittelunverträglichkeit oder Allergie besteht. Soweit möglich\, ergänzen wir unsere Rezepte mit alternativen Möglichkeiten!
URL:https://andersessen.at/veranstaltung/blue-zone-kochkurs-rezepte-fuer-langlebigkeit-griechenland-ikaria/
LOCATION:Inner.Link\, Römergasse 27\, Wien\, Wien\, 1160\, Österreich
CATEGORIES:Kochkurs
END:VEVENT
END:VCALENDAR